BEGIN:VCALENDAR
VERSION:2.0
PRODID:-//Kelso Camera Club - ECPv6.15.20//NONSGML v1.0//EN
CALSCALE:GREGORIAN
METHOD:PUBLISH
X-WR-CALNAME:Kelso Camera Club
X-ORIGINAL-URL:https://kelsocameraclub.co.uk
X-WR-CALDESC:Events for Kelso Camera Club
REFRESH-INTERVAL;VALUE=DURATION:PT1H
X-Robots-Tag:noindex
X-PUBLISHED-TTL:PT1H
BEGIN:VTIMEZONE
TZID:Europe/London
BEGIN:DAYLIGHT
TZOFFSETFROM:+0000
TZOFFSETTO:+0100
TZNAME:BST
DTSTART:20220327T010000
END:DAYLIGHT
BEGIN:STANDARD
TZOFFSETFROM:+0100
TZOFFSETTO:+0000
TZNAME:GMT
DTSTART:20221030T010000
END:STANDARD
BEGIN:DAYLIGHT
TZOFFSETFROM:+0000
TZOFFSETTO:+0100
TZNAME:BST
DTSTART:20230326T010000
END:DAYLIGHT
BEGIN:STANDARD
TZOFFSETFROM:+0100
TZOFFSETTO:+0000
TZNAME:GMT
DTSTART:20231029T010000
END:STANDARD
BEGIN:DAYLIGHT
TZOFFSETFROM:+0000
TZOFFSETTO:+0100
TZNAME:BST
DTSTART:20240331T010000
END:DAYLIGHT
BEGIN:STANDARD
TZOFFSETFROM:+0100
TZOFFSETTO:+0000
TZNAME:GMT
DTSTART:20241027T010000
END:STANDARD
END:VTIMEZONE
BEGIN:VEVENT
DTSTART;TZID=Europe/London:20230302T190000
DTEND;TZID=Europe/London:20230302T210000
DTSTAMP:20260423T142448
CREATED:20221012T205740Z
LAST-MODIFIED:20230301T162214Z
UID:3714-1677783600-1677790800@kelsocameraclub.co.uk
SUMMARY:Printing / Mixed Media Evening Getting ready for Exhibition… Papers
DESCRIPTION:(Bill/Zoe/Michael/Graeme)
URL:https://kelsocameraclub.co.uk/event/printing-mixed-media-evening-getting-ready-for-exhibition-papers/
LOCATION:Abbey Row Centre\, Kelso\, United Kingdom
CATEGORIES:Motion Activity 2022,Motion Theme 2022
END:VEVENT
BEGIN:VEVENT
DTSTART;TZID=Europe/London:20230309T190000
DTEND;TZID=Europe/London:20230309T210000
DTSTAMP:20260423T142448
CREATED:20221012T205614Z
LAST-MODIFIED:20230301T162116Z
UID:3712-1678388400-1678395600@kelsocameraclub.co.uk
SUMMARY:Practical - Motion
DESCRIPTION:
URL:https://kelsocameraclub.co.uk/event/practical-motion/
LOCATION:Abbey Row Community Centre\, The Knowes\,\, Kelso\, Roxburghshire\, TD5 7BJ\, United Kingdom
CATEGORIES:Motion Activity 2022,Motion Theme 2022
END:VEVENT
BEGIN:VEVENT
DTSTART;TZID=Europe/London:20230316T080000
DTEND;TZID=Europe/London:20230316T170000
DTSTAMP:20260423T142448
CREATED:20221012T205830Z
LAST-MODIFIED:20230301T162937Z
UID:3716-1678953600-1678986000@kelsocameraclub.co.uk
SUMMARY:Photoshop - How To... & Print files
DESCRIPTION:A night of showing photoshop tricks and skills… and answering your photoshop questions or possibly even demonstrating how to correct your image(s) \nCollection of print files to send to the Lab!
URL:https://kelsocameraclub.co.uk/event/how-to-photoshop/
LOCATION:Abbey Row Centre\, Kelso\, United Kingdom
CATEGORIES:Motion Activity 2022,Motion Theme 2022
END:VEVENT
BEGIN:VEVENT
DTSTART;TZID=Europe/London:20230323T190000
DTEND;TZID=Europe/London:20230323T210000
DTSTAMP:20260423T142448
CREATED:20221012T205932Z
LAST-MODIFIED:20221012T212143Z
UID:3718-1679598000-1679605200@kelsocameraclub.co.uk
SUMMARY:Ask The Experts (Anon) +Exhibition & Theme End Hand-In
DESCRIPTION:
URL:https://kelsocameraclub.co.uk/event/ask-the-experts-anon-exhibition-hand-in/
LOCATION:Abbey Row Centre\, Kelso\, United Kingdom
CATEGORIES:Deadline,dealine,Motion Activity 2022,Motion Theme 2022
END:VEVENT
BEGIN:VEVENT
DTSTART;TZID=Europe/London:20230330T190000
DTEND;TZID=Europe/London:20230330T210000
DTSTAMP:20260423T142448
CREATED:20221012T210045Z
LAST-MODIFIED:20221012T210045Z
UID:3720-1680202800-1680210000@kelsocameraclub.co.uk
SUMMARY:Judge / Speaker TBC
DESCRIPTION:
URL:https://kelsocameraclub.co.uk/event/judge-speaker-tbc-3/
LOCATION:Abbey Row Centre\, Kelso\, United Kingdom
CATEGORIES:Motion Activity 2022,Motion Theme 2022
END:VEVENT
END:VCALENDAR