BEGIN:VCALENDAR
VERSION:2.0
PRODID:-//Kelso Camera Club - ECPv6.15.20//NONSGML v1.0//EN
CALSCALE:GREGORIAN
METHOD:PUBLISH
X-ORIGINAL-URL:https://kelsocameraclub.co.uk
X-WR-CALDESC:Events for Kelso Camera Club
REFRESH-INTERVAL;VALUE=DURATION:PT1H
X-Robots-Tag:noindex
X-PUBLISHED-TTL:PT1H
BEGIN:VTIMEZONE
TZID:Europe/London
BEGIN:DAYLIGHT
TZOFFSETFROM:+0000
TZOFFSETTO:+0100
TZNAME:BST
DTSTART:20220327T010000
END:DAYLIGHT
BEGIN:STANDARD
TZOFFSETFROM:+0100
TZOFFSETTO:+0000
TZNAME:GMT
DTSTART:20221030T010000
END:STANDARD
BEGIN:DAYLIGHT
TZOFFSETFROM:+0000
TZOFFSETTO:+0100
TZNAME:BST
DTSTART:20230326T010000
END:DAYLIGHT
BEGIN:STANDARD
TZOFFSETFROM:+0100
TZOFFSETTO:+0000
TZNAME:GMT
DTSTART:20231029T010000
END:STANDARD
BEGIN:DAYLIGHT
TZOFFSETFROM:+0000
TZOFFSETTO:+0100
TZNAME:BST
DTSTART:20240331T010000
END:DAYLIGHT
BEGIN:STANDARD
TZOFFSETFROM:+0100
TZOFFSETTO:+0000
TZNAME:GMT
DTSTART:20241027T010000
END:STANDARD
END:VTIMEZONE
BEGIN:VEVENT
DTSTART;TZID=Europe/London:20230201T190000
DTEND;TZID=Europe/London:20230201T210000
DTSTAMP:20260423T100058
CREATED:20220807T215059Z
LAST-MODIFIED:20230826T153011Z
UID:3691-1675278000-1675285200@kelsocameraclub.co.uk
SUMMARY:2/3 Way Comp- Gala/Earlston/Kelso
DESCRIPTION:
URL:https://kelsocameraclub.co.uk/event/2-3-way-comp-gala-earlston-kelso/
END:VEVENT
BEGIN:VEVENT
DTSTART;TZID=Europe/London:20230202T191500
DTEND;TZID=Europe/London:20230202T211500
DTSTAMP:20260423T100058
CREATED:20220807T215227Z
LAST-MODIFIED:20221012T212224Z
UID:3693-1675365300-1675372500@kelsocameraclub.co.uk
SUMMARY:Exhibition Prep/PS Plus Hand In
DESCRIPTION:Thinking about the exhibition Image… editing help —- 2/3 way review
URL:https://kelsocameraclub.co.uk/event/exhibition-prep-ps-plus-hand-in/
LOCATION:Abbey Row Centre\, Kelso\, United Kingdom
CATEGORIES:Deadline,dealine,Painting With Light Activity 2022,Painting With Light Theme 2022
END:VEVENT
BEGIN:VEVENT
DTSTART;TZID=Europe/London:20230209T191500
DTEND;TZID=Europe/London:20230209T211500
DTSTAMP:20260423T100058
CREATED:20220807T215357Z
LAST-MODIFIED:20220807T215357Z
UID:3695-1675970100-1675977300@kelsocameraclub.co.uk
SUMMARY:Judge/Speaker TBC
DESCRIPTION:
URL:https://kelsocameraclub.co.uk/event/judge-speaker-tbc-2/
LOCATION:Abbey Row Centre\, Kelso\, United Kingdom
CATEGORIES:Painting With Light Activity 2022,Painting With Light Theme 2022
END:VEVENT
BEGIN:VEVENT
DTSTART;VALUE=DATE:20230216
DTEND;VALUE=DATE:20230217
DTSTAMP:20260423T100058
CREATED:20220807T215426Z
LAST-MODIFIED:20220807T215457Z
UID:3697-1676505600-1676591999@kelsocameraclub.co.uk
SUMMARY:Feb Break
DESCRIPTION:
URL:https://kelsocameraclub.co.uk/event/feb-break/
CATEGORIES:Holiday
END:VEVENT
BEGIN:VEVENT
DTSTART;TZID=Europe/London:20230223T190000
DTEND;TZID=Europe/London:20230223T210000
DTSTAMP:20260423T100058
CREATED:20221012T205132Z
LAST-MODIFIED:20221012T211935Z
UID:3710-1677178800-1677186000@kelsocameraclub.co.uk
SUMMARY:Intro - Motion Theme (printed and digital)
DESCRIPTION:
URL:https://kelsocameraclub.co.uk/event/intro-motion-theme-printed-and-digital/
LOCATION:Abbey Row Centre\, Kelso\, United Kingdom
CATEGORIES:Introduction,Motion Activity 2022,Motion Theme 2022
END:VEVENT
END:VCALENDAR