BEGIN:VCALENDAR
VERSION:2.0
PRODID:-//Kelso Camera Club - ECPv6.15.20//NONSGML v1.0//EN
CALSCALE:GREGORIAN
METHOD:PUBLISH
X-ORIGINAL-URL:https://kelsocameraclub.co.uk
X-WR-CALDESC:Events for Kelso Camera Club
REFRESH-INTERVAL;VALUE=DURATION:PT1H
X-Robots-Tag:noindex
X-PUBLISHED-TTL:PT1H
BEGIN:VTIMEZONE
TZID:Europe/London
BEGIN:DAYLIGHT
TZOFFSETFROM:+0000
TZOFFSETTO:+0100
TZNAME:BST
DTSTART:20210328T010000
END:DAYLIGHT
BEGIN:STANDARD
TZOFFSETFROM:+0100
TZOFFSETTO:+0000
TZNAME:GMT
DTSTART:20211031T010000
END:STANDARD
BEGIN:DAYLIGHT
TZOFFSETFROM:+0000
TZOFFSETTO:+0100
TZNAME:BST
DTSTART:20220327T010000
END:DAYLIGHT
BEGIN:STANDARD
TZOFFSETFROM:+0100
TZOFFSETTO:+0000
TZNAME:GMT
DTSTART:20221030T010000
END:STANDARD
BEGIN:DAYLIGHT
TZOFFSETFROM:+0000
TZOFFSETTO:+0100
TZNAME:BST
DTSTART:20230326T010000
END:DAYLIGHT
BEGIN:STANDARD
TZOFFSETFROM:+0100
TZOFFSETTO:+0000
TZNAME:GMT
DTSTART:20231029T010000
END:STANDARD
END:VTIMEZONE
BEGIN:VEVENT
DTSTART;TZID=Europe/London:20221006T191500
DTEND;TZID=Europe/London:20221006T211500
DTSTAMP:20260421T155126
CREATED:20220807T211350Z
LAST-MODIFIED:20220807T211350Z
UID:3654-1665083700-1665090900@kelsocameraclub.co.uk
SUMMARY:Judge/Speaker - TBC
DESCRIPTION:TBC
URL:https://kelsocameraclub.co.uk/event/judge-speaker-tbc/
LOCATION:Abbey Row Centre\, Kelso\, United Kingdom
CATEGORIES:Composition Activity 2022,Composition Theme 2022
END:VEVENT
BEGIN:VEVENT
DTSTART;VALUE=DATE:20221013
DTEND;VALUE=DATE:20221014
DTSTAMP:20260421T155126
CREATED:20220807T211748Z
LAST-MODIFIED:20220807T215539Z
UID:3658-1665619200-1665705599@kelsocameraclub.co.uk
SUMMARY:October Break
DESCRIPTION:
URL:https://kelsocameraclub.co.uk/event/october-break/
CATEGORIES:Holiday
END:VEVENT
BEGIN:VEVENT
DTSTART;TZID=Europe/London:20221020T191500
DTEND;TZID=Europe/London:20221020T211500
DTSTAMP:20260421T155126
CREATED:20220807T211703Z
LAST-MODIFIED:20220807T214258Z
UID:3656-1666293300-1666300500@kelsocameraclub.co.uk
SUMMARY:Introduction to Colour Theme - Michael
DESCRIPTION:
URL:https://kelsocameraclub.co.uk/event/introduction-to-colour-theme-michael/
LOCATION:Abbey Row Centre\, Kelso\, United Kingdom
CATEGORIES:Colour Activity 2022,Colour Theme 2022
END:VEVENT
BEGIN:VEVENT
DTSTART;TZID=Europe/London:20221027T191500
DTEND;TZID=Europe/London:20221027T211500
DTSTAMP:20260421T155126
CREATED:20220807T212011Z
LAST-MODIFIED:20220807T214237Z
UID:3660-1666898100-1666905300@kelsocameraclub.co.uk
SUMMARY:Practical - Colour
DESCRIPTION:
URL:https://kelsocameraclub.co.uk/event/practical-colour/
LOCATION:Abbey Row Centre\, Kelso\, United Kingdom
CATEGORIES:Colour Activity 2022,Colour Theme 2022
END:VEVENT
END:VCALENDAR