BEGIN:VCALENDAR
VERSION:2.0
PRODID:-//Kelso Camera Club - ECPv6.15.20//NONSGML v1.0//EN
CALSCALE:GREGORIAN
METHOD:PUBLISH
X-ORIGINAL-URL:https://kelsocameraclub.co.uk
X-WR-CALDESC:Events for Kelso Camera Club
REFRESH-INTERVAL;VALUE=DURATION:PT1H
X-Robots-Tag:noindex
X-PUBLISHED-TTL:PT1H
BEGIN:VTIMEZONE
TZID:Europe/London
BEGIN:DAYLIGHT
TZOFFSETFROM:+0000
TZOFFSETTO:+0100
TZNAME:BST
DTSTART:20200329T010000
END:DAYLIGHT
BEGIN:STANDARD
TZOFFSETFROM:+0100
TZOFFSETTO:+0000
TZNAME:GMT
DTSTART:20201025T010000
END:STANDARD
BEGIN:DAYLIGHT
TZOFFSETFROM:+0000
TZOFFSETTO:+0100
TZNAME:BST
DTSTART:20210328T010000
END:DAYLIGHT
BEGIN:STANDARD
TZOFFSETFROM:+0100
TZOFFSETTO:+0000
TZNAME:GMT
DTSTART:20211031T010000
END:STANDARD
BEGIN:DAYLIGHT
TZOFFSETFROM:+0000
TZOFFSETTO:+0100
TZNAME:BST
DTSTART:20220327T010000
END:DAYLIGHT
BEGIN:STANDARD
TZOFFSETFROM:+0100
TZOFFSETTO:+0000
TZNAME:GMT
DTSTART:20221030T010000
END:STANDARD
END:VTIMEZONE
BEGIN:VEVENT
DTSTART;TZID=Europe/London:20211202T190000
DTEND;TZID=Europe/London:20211202T210000
DTSTAMP:20260422T011346
CREATED:20210831T230517Z
LAST-MODIFIED:20210831T230517Z
UID:3540-1638471600-1638478800@kelsocameraclub.co.uk
SUMMARY:Guest Speaker / Introduction to Family theme
DESCRIPTION:Stop-Motion-Animation – Zoe Meadows 
URL:https://kelsocameraclub.co.uk/event/guest-speaker-introduction-to-family-theme/
LOCATION:Online
CATEGORIES:Family Activity 21/22,Family Theme,Introduction,Speaker
END:VEVENT
BEGIN:VEVENT
DTSTART;TZID=Europe/London:20211209T190000
DTEND;TZID=Europe/London:20211209T210000
DTSTAMP:20260422T011346
CREATED:20210831T230621Z
LAST-MODIFIED:20210831T230621Z
UID:3542-1639076400-1639083600@kelsocameraclub.co.uk
SUMMARY:Evening in Edinburgh
DESCRIPTION:Edinburgh Outing\, Xmas lights or Calton Hill
URL:https://kelsocameraclub.co.uk/event/evening-in-edinburgh/
LOCATION:Online
CATEGORIES:Club Trip,Family Activity 21/22,Family Theme
END:VEVENT
BEGIN:VEVENT
DTSTART;TZID=Europe/London:20211216T190000
DTEND;TZID=Europe/London:20211216T210000
DTSTAMP:20260422T011346
CREATED:20210831T230734Z
LAST-MODIFIED:20210831T230734Z
UID:3544-1639681200-1639688400@kelsocameraclub.co.uk
SUMMARY:Guest speaker - Tom Peck
DESCRIPTION:History of Portaiture
URL:https://kelsocameraclub.co.uk/event/guest-speaker-tom-peck/
LOCATION:Online
CATEGORIES:Family Activity 21/22,Family Theme,Speaker
END:VEVENT
BEGIN:VEVENT
DTSTART;TZID=Europe/London:20211223T190000
DTEND;TZID=Europe/London:20211223T210000
DTSTAMP:20260422T011346
CREATED:20210831T230856Z
LAST-MODIFIED:20210831T230932Z
UID:3546-1640286000-1640293200@kelsocameraclub.co.uk
SUMMARY:CHRISTMAS BREAK
DESCRIPTION:
URL:https://kelsocameraclub.co.uk/event/christmas-break/
LOCATION:Online
CATEGORIES:Family Theme,Holiday
END:VEVENT
BEGIN:VEVENT
DTSTART;TZID=Europe/London:20211230T190000
DTEND;TZID=Europe/London:20211230T190000
DTSTAMP:20260422T011346
CREATED:20210831T231016Z
LAST-MODIFIED:20210831T231016Z
UID:3548-1640890800-1640890800@kelsocameraclub.co.uk
SUMMARY:CHRISTMAS BREAK
DESCRIPTION:
URL:https://kelsocameraclub.co.uk/event/christmas-break-2/
LOCATION:Online
CATEGORIES:Family Theme,Holiday
END:VEVENT
END:VCALENDAR