BEGIN:VCALENDAR
VERSION:2.0
PRODID:-//Kelso Camera Club - ECPv6.15.20//NONSGML v1.0//EN
CALSCALE:GREGORIAN
METHOD:PUBLISH
X-ORIGINAL-URL:https://kelsocameraclub.co.uk
X-WR-CALDESC:Events for Kelso Camera Club
REFRESH-INTERVAL;VALUE=DURATION:PT1H
X-Robots-Tag:noindex
X-PUBLISHED-TTL:PT1H
BEGIN:VTIMEZONE
TZID:UTC
BEGIN:STANDARD
TZOFFSETFROM:+0000
TZOFFSETTO:+0000
TZNAME:UTC
DTSTART:20160101T000000
END:STANDARD
END:VTIMEZONE
BEGIN:VEVENT
DTSTART;TZID=UTC:20171207T190000
DTEND;TZID=UTC:20171207T210000
DTSTAMP:20260421T124411
CREATED:20170717T082323Z
LAST-MODIFIED:20170717T104310Z
UID:2265-1512673200-1512680400@kelsocameraclub.co.uk
SUMMARY:Workshop - Layers
DESCRIPTION:Put your new skills to use with expert help at your fingertips.
URL:https://kelsocameraclub.co.uk/event/workshop-layers/
LOCATION:Abbey Row Community Centre\, The Knowes\,\, Kelso\, Roxburghshire\, TD5 7BJ\, United Kingdom
CATEGORIES:Deadline,Straight from the Camera Activity 2017,Straight from the Camera Theme 2017,Thursday Meeting,Workshop
END:VEVENT
BEGIN:VEVENT
DTSTART;TZID=UTC:20171214T190000
DTEND;TZID=UTC:20171214T210000
DTSTAMP:20260421T124411
CREATED:20170717T082502Z
LAST-MODIFIED:20170717T103722Z
UID:2267-1513278000-1513285200@kelsocameraclub.co.uk
SUMMARY:Speaker - TBC DL
DESCRIPTION:Details to follow.
URL:https://kelsocameraclub.co.uk/event/speaker-tbc-dl/
LOCATION:Abbey Row Community Centre\, The Knowes\,\, Kelso\, Roxburghshire\, TD5 7BJ\, United Kingdom
CATEGORIES:Competition,Straight from the Camera Activity 2017,Straight from the Camera Theme 2017,Thursday Meeting
END:VEVENT
BEGIN:VEVENT
DTSTART;TZID=UTC:20171221T190000
DTEND;TZID=UTC:20171221T220000
DTSTAMP:20260421T124411
CREATED:20170717T082613Z
LAST-MODIFIED:20170717T082613Z
UID:2268-1513882800-1513893600@kelsocameraclub.co.uk
SUMMARY:Christmas Night Out
DESCRIPTION:Christmas Night out
URL:https://kelsocameraclub.co.uk/event/christmas-night-out-2/
LOCATION:tbc
CATEGORIES:Thursday Meeting
END:VEVENT
BEGIN:VEVENT
DTSTART;TZID=UTC:20171228T080000
DTEND;TZID=UTC:20171228T170000
DTSTAMP:20260421T124411
CREATED:20170717T103132Z
LAST-MODIFIED:20170717T103132Z
UID:2292-1514448000-1514480400@kelsocameraclub.co.uk
SUMMARY:No Meeting
DESCRIPTION:Club closed for Christmas break
URL:https://kelsocameraclub.co.uk/event/no-meeting-3/
CATEGORIES:Holiday
END:VEVENT
END:VCALENDAR