BEGIN:VCALENDAR
VERSION:2.0
PRODID:-//Kelso Camera Club - ECPv6.15.20//NONSGML v1.0//EN
CALSCALE:GREGORIAN
METHOD:PUBLISH
X-ORIGINAL-URL:https://kelsocameraclub.co.uk
X-WR-CALDESC:Events for Kelso Camera Club
REFRESH-INTERVAL;VALUE=DURATION:PT1H
X-Robots-Tag:noindex
X-PUBLISHED-TTL:PT1H
BEGIN:VTIMEZONE
TZID:UTC
BEGIN:STANDARD
TZOFFSETFROM:+0000
TZOFFSETTO:+0000
TZNAME:UTC
DTSTART:20160101T000000
END:STANDARD
END:VTIMEZONE
BEGIN:VEVENT
DTSTART;TZID=UTC:20170202T190000
DTEND;TZID=UTC:20170202T210000
DTSTAMP:20260425T041021
CREATED:20160823T183905Z
LAST-MODIFIED:20160823T184245Z
UID:2168-1486062000-1486069200@kelsocameraclub.co.uk
SUMMARY:Three Way Competition - Hawick\, Newcastleton\, Kelso
DESCRIPTION:This year’s competition is hosted by Hawick Camera Club.
URL:https://kelsocameraclub.co.uk/event/three-way-competition-hawick-newcastleton-kelso/
LOCATION:Roxburghshire
CATEGORIES:Competition,Four legs Theme 2016,Thursday Meeting
END:VEVENT
END:VCALENDAR