BEGIN:VCALENDAR
VERSION:2.0
PRODID:-//Kelso Camera Club - ECPv6.15.20//NONSGML v1.0//EN
CALSCALE:GREGORIAN
METHOD:PUBLISH
X-ORIGINAL-URL:https://kelsocameraclub.co.uk
X-WR-CALDESC:Events for Kelso Camera Club
REFRESH-INTERVAL;VALUE=DURATION:PT1H
X-Robots-Tag:noindex
X-PUBLISHED-TTL:PT1H
BEGIN:VTIMEZONE
TZID:UTC
BEGIN:STANDARD
TZOFFSETFROM:+0000
TZOFFSETTO:+0000
TZNAME:UTC
DTSTART:20170101T000000
END:STANDARD
END:VTIMEZONE
BEGIN:VEVENT
DTSTART;TZID=UTC:20180222T190000
DTEND;TZID=UTC:20180222T210000
DTSTAMP:20260420T202428
CREATED:20170717T083729Z
LAST-MODIFIED:20170717T104405Z
UID:2274-1519326000-1519333200@kelsocameraclub.co.uk
SUMMARY:Exhibition Preparation 2
DESCRIPTION:Preparation\, Advice and Review (Alex and the sub group)
URL:https://kelsocameraclub.co.uk/event/exhibition-preparation-2/
LOCATION:Abbey Row Community Centre\, The Knowes\,\, Kelso\, Roxburghshire\, TD5 7BJ\, United Kingdom
CATEGORIES:5.6 & Under Theme 2017,Exhibition,f5.6 & Under Activity 2017,Thursday Meeting
END:VEVENT
END:VCALENDAR