BEGIN:VCALENDAR
VERSION:2.0
PRODID:-//Kelso Camera Club - ECPv6.15.20//NONSGML v1.0//EN
CALSCALE:GREGORIAN
METHOD:PUBLISH
X-WR-CALNAME:Kelso Camera Club
X-ORIGINAL-URL:https://kelsocameraclub.co.uk
X-WR-CALDESC:Events for Kelso Camera Club
REFRESH-INTERVAL;VALUE=DURATION:PT1H
X-Robots-Tag:noindex
X-PUBLISHED-TTL:PT1H
BEGIN:VTIMEZONE
TZID:UTC
BEGIN:STANDARD
TZOFFSETFROM:+0000
TZOFFSETTO:+0000
TZNAME:UTC
DTSTART:20160101T000000
END:STANDARD
END:VTIMEZONE
BEGIN:VEVENT
DTSTART;TZID=UTC:20170921T190000
DTEND;TZID=UTC:20170921T210000
DTSTAMP:20260421T205342
CREATED:20170717T075714Z
LAST-MODIFIED:20170820T115129Z
UID:2257-1506020400-1506027600@kelsocameraclub.co.uk
SUMMARY:Back to Basics part 2
DESCRIPTION:Continuation from last week including composition\, etc. (Zoe)\nImage Bank and other practical advice (Graeme). Sharing the New Exhibition guidance produced by the sub-group including sizing images (Alex)
URL:https://kelsocameraclub.co.uk/event/practical-advice/
LOCATION:Abbey Row Community Centre\, The Knowes\,\, Kelso\, Roxburghshire\, TD5 7BJ\, United Kingdom
CATEGORIES:3 Panel Activity 2017,3 Panel Theme 2017,Thursday Meeting
END:VEVENT
END:VCALENDAR