BEGIN:VCALENDAR
VERSION:2.0
PRODID:-//Kelso Camera Club - ECPv6.15.20//NONSGML v1.0//EN
CALSCALE:GREGORIAN
METHOD:PUBLISH
X-ORIGINAL-URL:https://kelsocameraclub.co.uk
X-WR-CALDESC:Events for Kelso Camera Club
REFRESH-INTERVAL;VALUE=DURATION:PT1H
X-Robots-Tag:noindex
X-PUBLISHED-TTL:PT1H
BEGIN:VTIMEZONE
TZID:UTC
BEGIN:STANDARD
TZOFFSETFROM:+0000
TZOFFSETTO:+0000
TZNAME:UTC
DTSTART:20160101T000000
END:STANDARD
END:VTIMEZONE
BEGIN:VEVENT
DTSTART;TZID=UTC:20170907T070000
DTEND;TZID=UTC:20170907T210000
DTSTAMP:20260421T205349
CREATED:20170714T094510Z
LAST-MODIFIED:20170717T103925Z
UID:2246-1504767600-1504818000@kelsocameraclub.co.uk
SUMMARY:International Photo Exchange
DESCRIPTION:We have images from Kelso\, USA; Kelso\, Australia and Durban\, South Africa
URL:https://kelsocameraclub.co.uk/event/summer-holidays-panel/
CATEGORIES:3 Panel Activity 2017,3 Panel Theme 2017,Thursday Meeting
END:VEVENT
END:VCALENDAR