BEGIN:VCALENDAR
VERSION:2.0
PRODID:-//Kelso Camera Club - ECPv6.15.20//NONSGML v1.0//EN
CALSCALE:GREGORIAN
METHOD:PUBLISH
X-WR-CALNAME:Kelso Camera Club
X-ORIGINAL-URL:https://kelsocameraclub.co.uk
X-WR-CALDESC:Events for Kelso Camera Club
REFRESH-INTERVAL;VALUE=DURATION:PT1H
X-Robots-Tag:noindex
X-PUBLISHED-TTL:PT1H
BEGIN:VTIMEZONE
TZID:UTC
BEGIN:STANDARD
TZOFFSETFROM:+0000
TZOFFSETTO:+0000
TZNAME:UTC
DTSTART:20160101T000000
END:STANDARD
END:VTIMEZONE
BEGIN:VEVENT
DTSTART;TZID=UTC:20170615T190000
DTEND;TZID=UTC:20170615T210000
DTSTAMP:20260422T065625
CREATED:20160823T191347Z
LAST-MODIFIED:20160823T191347Z
UID:2188-1497553200-1497560400@kelsocameraclub.co.uk
SUMMARY:Member's Night
DESCRIPTION:Please also bring your chosen picture for the Urban Landscapes end of theme competition.
URL:https://kelsocameraclub.co.uk/event/members-night/
LOCATION:Abbey Row Community Centre\, The Knowes\,\, Kelso\, Roxburghshire\, TD5 7BJ\, United Kingdom
CATEGORIES:Thursday Meeting,Urban Landscapes Theme 2016
END:VEVENT
END:VCALENDAR