BEGIN:VCALENDAR
VERSION:2.0
PRODID:-//Kelso Camera Club - ECPv6.15.20//NONSGML v1.0//EN
CALSCALE:GREGORIAN
METHOD:PUBLISH
X-WR-CALNAME:Kelso Camera Club
X-ORIGINAL-URL:https://kelsocameraclub.co.uk
X-WR-CALDESC:Events for Kelso Camera Club
REFRESH-INTERVAL;VALUE=DURATION:PT1H
X-Robots-Tag:noindex
X-PUBLISHED-TTL:PT1H
BEGIN:VTIMEZONE
TZID:UTC
BEGIN:STANDARD
TZOFFSETFROM:+0000
TZOFFSETTO:+0000
TZNAME:UTC
DTSTART:20160101T000000
END:STANDARD
END:VTIMEZONE
BEGIN:VEVENT
DTSTART;TZID=UTC:20170511T190000
DTEND;TZID=UTC:20170511T210000
DTSTAMP:20260422T110043
CREATED:20160823T190421Z
LAST-MODIFIED:20160830T080234Z
UID:2181-1494529200-1494536400@kelsocameraclub.co.uk
SUMMARY:Introduction to Urban Landscape Photography
DESCRIPTION:Urban landscape photography describes a town or city rather than simply being a big view of the town or city. Your image should attempt to understand your experience of the town or city. It should concentrate on structures or processes rather than on people. Urban landscape is distinct from ‘street photography’\, which looks at urban experience largely through a study of the people who live it. Urban landscape photographs often include people\, but they are clearly situated in the structures of the town or city.
URL:https://kelsocameraclub.co.uk/event/introduction-to-urban-landscape-photography/
LOCATION:Abbey Row Community Centre\, The Knowes\,\, Kelso\, Roxburghshire\, TD5 7BJ\, United Kingdom
CATEGORIES:Introduction,Thursday Meeting,Urban Landscapes Activity 2016,Urban Landscapes Theme 2016
END:VEVENT
END:VCALENDAR