BEGIN:VCALENDAR
VERSION:2.0
PRODID:-//Kelso Camera Club - ECPv6.15.20//NONSGML v1.0//EN
CALSCALE:GREGORIAN
METHOD:PUBLISH
X-ORIGINAL-URL:https://kelsocameraclub.co.uk
X-WR-CALDESC:Events for Kelso Camera Club
REFRESH-INTERVAL;VALUE=DURATION:PT1H
X-Robots-Tag:noindex
X-PUBLISHED-TTL:PT1H
BEGIN:VTIMEZONE
TZID:UTC
BEGIN:STANDARD
TZOFFSETFROM:+0000
TZOFFSETTO:+0000
TZNAME:UTC
DTSTART:20160101T000000
END:STANDARD
END:VTIMEZONE
BEGIN:VEVENT
DTSTART;TZID=UTC:20170504T190000
DTEND;TZID=UTC:20170504T210000
DTSTAMP:20260422T110102
CREATED:20160823T190244Z
LAST-MODIFIED:20160823T190244Z
UID:2180-1493924400-1493931600@kelsocameraclub.co.uk
SUMMARY:Exhibition Print Review and Mounting
DESCRIPTION:This session will focus on making sure our images are ready for display in the Club Exhibition. This year we’re aiming to mount our own work. More details nearer the time.
URL:https://kelsocameraclub.co.uk/event/exhibition-print-review-and-mounting/
LOCATION:Abbey Row Community Centre\, The Knowes\,\, Kelso\, Roxburghshire\, TD5 7BJ\, United Kingdom
CATEGORIES:Thursday Meeting,Workshop
END:VEVENT
END:VCALENDAR